BEGIN:VCALENDAR
VERSION:2.0
PRODID:GlueUp
CALSCALE:GREGORIAN
BEGIN:VTIMEZONE
TZID:UTC
BEGIN:STANDARD
DTSTART:19700101T000000
TZOFFSETFROM:+0000
TZOFFSETTO:+0000
TZNAME:UTC
END:STANDARD
END:VTIMEZONE
BEGIN:VEVENT
TZ:+00
ORGANIZER;CN=Communications BritCham SC:MAILTO:communications@britchamsouthchina.org
UID:49569-1776780933@https://britchamgd.glueup.cn
DTSTAMP:20260421T141533Z
DTSTART:20260310T060000Z
DTEND:20260310T093000Z
SUMMARY:Net-Zero Conference
DESCRIPTION:Net-Zero Conference by The British Chamber of Commerce South China\n\nMar 10, 2026 (14:00 - 17:30)(GMT+8)\n\nFor more information, click here: https://britchamgd.glueup.cn/my/events/49569
LOCATION:PW & Partners Law Firm 广东固法律师事务所 - 39F - R&F Yingtong Building - No. 30 Huaxia Road - Zhujiang New Town - Guangzhou / 广州市珠江新城华夏路30号富力盈通大厦39楼 广州 - 广东 - China
BEGIN:VALARM
TRIGGER:-PT48H
REPEAT:4
DURATION:PT30M
ACTION:DISPLAY
END:VALARM
END:VEVENT
END:VCALENDAR