BEGIN:VCALENDAR
VERSION:2.0
PRODID:GlueUp
CALSCALE:GREGORIAN
BEGIN:VTIMEZONE
TZID:UTC
BEGIN:STANDARD
DTSTART:19700101T000000
TZOFFSETFROM:+0000
TZOFFSETTO:+0000
TZNAME:UTC
END:STANDARD
END:VTIMEZONE
BEGIN:VEVENT
TZ:+00
ORGANIZER;CN=Echo Ji:MAILTO:echo.ji@britchamgd.com
UID:29939-1777146376@https://britchamgd.glueup.cn
DTSTAMP:20260425T194616Z
DTSTART:20210120T100000Z
DTEND:20210120T130000Z
SUMMARY:Market Trends Affecting Talent Within the Technology Sector in South China
DESCRIPTION:Market Trends Affecting Talent Within the Technology Sector in South China by The British Chamber of Commerce South China\n\nJan 20, 2021 (18:00 - 21:00)(GMT+8)\n\nFor more information, click here: https://britchamgd.glueup.cn/my/events/29939
LOCATION:Shenzhen - 2F - BEEPLUS Fortune Tower Space - Futian District - Shenzhen Shenzhen - Guangdong Province - China
BEGIN:VALARM
TRIGGER:-PT48H
REPEAT:4
DURATION:PT30M
ACTION:DISPLAY
END:VALARM
END:VEVENT
END:VCALENDAR