BEGIN:VCALENDAR
VERSION:2.0
PRODID:GlueUp
CALSCALE:GREGORIAN
BEGIN:VTIMEZONE
TZID:UTC
BEGIN:STANDARD
DTSTART:19700101T000000
TZOFFSETFROM:+0000
TZOFFSETTO:+0000
TZNAME:UTC
END:STANDARD
END:VTIMEZONE
BEGIN:VEVENT
TZ:+00
ORGANIZER;CN=Christy Leung:MAILTO:christy.leung@britchamsouthchina.org
UID:49642-1776781886@https://britchamgd.glueup.cn
DTSTAMP:20260421T143126Z
DTSTART:20260326T060000Z
DTEND:20260326T090000Z
SUMMARY:From AI-Powered Recruiting to Solid Retention: The Cost-Saving Talent Management Upgrade
DESCRIPTION:From AI-Powered Recruiting to Solid Retention: The Cost-Saving Talent Management Upgrade by The British Chamber of Commerce South China\n\nMar 26, 2026 (14:00 - 17:00)(GMT+8)\n\nFor more information, click here: https://britchamgd.glueup.cn/my/events/49642
LOCATION:The British Centre, Guangzhou - 22/F - Guangzhou International Finance Centre - Tianhe - Guangzhou Guangzhou - Guangdong Province - China
BEGIN:VALARM
TRIGGER:-PT48H
REPEAT:4
DURATION:PT30M
ACTION:DISPLAY
END:VALARM
END:VEVENT
END:VCALENDAR