BEGIN:VCALENDAR
VERSION:2.0
PRODID:GlueUp
CALSCALE:GREGORIAN
BEGIN:VTIMEZONE
TZID:UTC
BEGIN:STANDARD
DTSTART:19700101T000000
TZOFFSETFROM:+0000
TZOFFSETTO:+0000
TZNAME:UTC
END:STANDARD
END:VTIMEZONE
BEGIN:VEVENT
TZ:+00
ORGANIZER;CN=Communications BritCham SC:MAILTO:communications@britchamsouthchina.org
UID:50023-1776781887@https://britchamgd.glueup.cn
DTSTAMP:20260421T143127Z
DTSTART:20260414T110000Z
DTEND:20260414T130000Z
SUMMARY:China's Next Growth Equation:Demand and Rebalancing
DESCRIPTION:China's Next Growth Equation:Demand and Rebalancing by The British Chamber of Commerce South China\n\nApr 14, 2026 (19:00 - 21:00)(GMT+8)\n\nFor more information, click here: https://britchamgd.glueup.cn/my/events/50023
LOCATION:Shangri-La Hotel,Nanshan,Shenzhen - 深圳南山香格里拉酒店 - 深圳市南山区白石三道深湾汇云中心五期J座红树湾南地铁站E口旁 深圳 - 广东 - China
BEGIN:VALARM
TRIGGER:-PT48H
REPEAT:4
DURATION:PT30M
ACTION:DISPLAY
END:VALARM
END:VEVENT
END:VCALENDAR