BEGIN:VCALENDAR
VERSION:2.0
PRODID:GlueUp
CALSCALE:GREGORIAN
BEGIN:VTIMEZONE
TZID:UTC
BEGIN:STANDARD
DTSTART:19700101T000000
TZOFFSETFROM:+0000
TZOFFSETTO:+0000
TZNAME:UTC
END:STANDARD
END:VTIMEZONE
BEGIN:VEVENT
TZ:+00
ORGANIZER;CN=Communications BritCham SC:MAILTO:communications@britchamsouthchina.org
UID:50022-1776781924@https://britchamgd.glueup.cn
DTSTAMP:20260421T143204Z
DTSTART:20260523T033000Z
DTEND:20260523T063000Z
SUMMARY:BritCham South China Saturday Brunch
DESCRIPTION:BritCham South China Saturday Brunch by The British Chamber of Commerce South China\n\nMay 23, 2026 (11:30 - 14:30)(GMT+8)\n\nFor more information, click here: https://britchamgd.glueup.cn/my/events/50022
LOCATION:Liberty Brewing Co 曼哈顿餐吧 - No.101 - Bldg 26 - Xing He Chuan Shuo - 229 DongCheng East Road - Dongguan - 东莞市东城东路229号星河新天地26栋101 东莞 - 广东 - China
BEGIN:VALARM
TRIGGER:-PT48H
REPEAT:4
DURATION:PT30M
ACTION:DISPLAY
END:VALARM
END:VEVENT
END:VCALENDAR