BEGIN:VCALENDAR
VERSION:2.0
PRODID:GlueUp
CALSCALE:GREGORIAN
BEGIN:VTIMEZONE
TZID:UTC
BEGIN:STANDARD
DTSTART:19700101T000000
TZOFFSETFROM:+0000
TZOFFSETTO:+0000
TZNAME:UTC
END:STANDARD
END:VTIMEZONE
BEGIN:VEVENT
TZ:+00
ORGANIZER;CN=Kacy Deng:MAILTO:kacy.deng@britchamgd.com
UID:41576-1776775029@https://britchamgd.glueup.cn
DTSTAMP:20260421T123709Z
DTSTART:20231011T160001Z
DTEND:20231011T160001Z
SUMMARY:Optimizing Your Supply Chain:  Safeguarding Buyer Interests and Effective Communication with Chinese Supplier
DESCRIPTION:Optimizing Your Supply Chain:  Safeguarding Buyer Interests and Effective Communication with Chinese Supplier by The British Chamber of Commerce South China\n\nOct 12, 2023(GMT+8)\n\nFor more information, click here: https://britchamgd.glueup.cn/my/events/41576
LOCATION:British Centre 英国中心 - 22/F - Guangzhou International Finance Centre - No. 5 Zhujiang Xi Road - Tianhe District - Guangzhou - 天河区珠江西路5号广州国际金融中心22楼英国中心 广州 - 广东 - China
BEGIN:VALARM
TRIGGER:-PT48H
REPEAT:4
DURATION:PT30M
ACTION:DISPLAY
END:VALARM
END:VEVENT
END:VCALENDAR